BEGIN:VCALENDAR
VERSION:2.0
PRODID:-//Cork Racecourse Mallow - ECPv4.9.2//NONSGML v1.0//EN
CALSCALE:GREGORIAN
METHOD:PUBLISH
X-WR-CALNAME:Cork Racecourse Mallow
X-ORIGINAL-URL:https://www.corkracecourse.ie
X-WR-CALDESC:Events for Cork Racecourse Mallow
BEGIN:VEVENT
DTSTART;TZID=UTC+0:20161015T134000
DTEND;TZID=UTC+0:20161015T174000
DTSTAMP:20260424T203213
CREATED:20160405T151122Z
LAST-MODIFIED:20161015T093014Z
UID:12345-1476538800-1476553200@www.corkracecourse.ie
SUMMARY:Saturday 15th October -Day1
DESCRIPTION:[button link=”http://www.seatadvisor.eu/tickets/corkrc/date/2016-10-15″ color=”default” size=”large” type=”flat” shape=”square” target=”_blank” title=”” gradient_colors=”|” gradient_hover_colors=”|” accent_color=”” accent_hover_color=”” bevel_color=”” border_width=”1px” shadow=”{{shadow}}” icon=”” icon_divider=”yes” icon_position=”left” modal=”” animation_type=”0″ animation_direction=”down” animation_speed=”0.1″ alignment=”none” class=”” id=””]BOOK NOW[/button] \n \nDay 1 of a two day meeting at Cork Racecourse. This is a 7 race flat card and brings us to the end of our flat season \n[button link=”http://www.seatadvisor.eu/tickets/corkrc/date/2016-10-15″ color=”default” size=”large” type=”flat” shape=”square” target=”_blank” title=”” gradient_colors=”|” gradient_hover_colors=”|” accent_color=”” accent_hover_color=”” bevel_color=”” border_width=”1px” shadow=”{{shadow}}” icon=”” icon_divider=”yes” icon_position=”left” modal=”” animation_type=”0″ animation_direction=”down” animation_speed=”0.1″ alignment=”none” class=”” id=””]BOOK NOW[/button] \n
URL:https://www.corkracecourse.ie/event/saturday-15th-october-day1/
LOCATION:Cork Racecourse\, Cork Racecourse Mallow\, Killarney Road\, Mallow\, Cork\, Ireland
GEO:52.1389762;-8.6539164
X-APPLE-STRUCTURED-LOCATION;VALUE=URI;X-ADDRESS=Cork Racecourse Cork Racecourse Mallow Killarney Road Mallow Cork Ireland;X-APPLE-RADIUS=500;X-TITLE=Cork Racecourse Mallow:geo:-8.6539164,52.1389762
CATEGORIES:Race Meeting
ORGANIZER;CN="Mary%20Kelly":MAILTO:info@corkracecourse.ie
END:VEVENT
END:VCALENDAR