BEGIN:VCALENDAR
VERSION:2.0
PRODID:-//Cork Racecourse Mallow - ECPv4.9.2//NONSGML v1.0//EN
CALSCALE:GREGORIAN
METHOD:PUBLISH
X-WR-CALNAME:Cork Racecourse Mallow
X-ORIGINAL-URL:https://www.corkracecourse.ie
X-WR-CALDESC:Events for Cork Racecourse Mallow
BEGIN:VEVENT
DTSTART;VALUE=DATE:20251207
DTEND;VALUE=DATE:20251208
DTSTAMP:20260424T100707
CREATED:20210119T165752Z
LAST-MODIFIED:20251202T124339Z
UID:15352-1765065600-1765151999@www.corkracecourse.ie
SUMMARY:Sunday 7th December - BAR 1 Betting Hillyway Chase
DESCRIPTION:The 2025 season concludes with The BAR ONE RACING Hilly Way Chase Raceday on Sunday 7th December 2025.  \nFirst race goes to post at 11:30\, with the last of a seven race card getting underway at 15:20pm.  \nThe €100\,000 BAR ONE RACING Hilly Way Chase is a Grade 2 race run over about 2 miles and half a furlong. Supporting races on December 7th include The Coolmore N.H. Sires Order Of St George Irish EBF Mares Novice Steeplechase (Grade 2) and The Joe Buckley Construction Stayers Novice Hurdle (Grade 3). A day of racing not to be missed. \nThere will be live music after racing for an hour and half\, by Handipak\, free for all to enjoy.  \nWe’ve got Super Saver Social Packages available starting at just €30 which includes admission to the races\, racecard\, a pint\, a €5 Food Voucher and a €5 Tote bet !  \nTo take the stress out of your evening we have a free shuttle bus running from Mallow town and Train Station to and from the racecourse before and after racing. Why not leave the car at home or hop on the train! \nTickets for racing start at just €15. \nBook now to avail of our 10% online discount and beat the raceday queues!  \nTickets are on sale by clicking here and for all hospitality enquiries please contact us on 022 – 50207 or email us at info@corkracecourse.ie \n
URL:https://www.corkracecourse.ie/event/sunday-7th-december-bar-1-betting-hillyway-chase/
LOCATION:Cork Racecourse\, Cork Racecourse Mallow\, Killarney Road\, Mallow\, Cork\, Ireland
GEO:52.1389762;-8.6539164
X-APPLE-STRUCTURED-LOCATION;VALUE=URI;X-ADDRESS=Cork Racecourse Cork Racecourse Mallow Killarney Road Mallow Cork Ireland;X-APPLE-RADIUS=500;X-TITLE=Cork Racecourse Mallow:geo:-8.6539164,52.1389762
CATEGORIES:Race Meeting
ATTACH;FMTTYPE=image/png:https://www.corkracecourse.ie/wp-content/uploads/2021/01/Bar-1-Betting-600-x-400-px-2.png
ORGANIZER;CN="Cork%20Racecourse":MAILTO:info@corkracecourse.ie
END:VEVENT
END:VCALENDAR