BEGIN:VCALENDAR
VERSION:2.0
PRODID:-//Cork Racecourse Mallow - ECPv4.9.2//NONSGML v1.0//EN
CALSCALE:GREGORIAN
METHOD:PUBLISH
X-WR-CALNAME:Cork Racecourse Mallow
X-ORIGINAL-URL:https://www.corkracecourse.ie
X-WR-CALDESC:Events for Cork Racecourse Mallow
BEGIN:VEVENT
DTSTART;TZID=UTC+0:20190901T122000
DTEND;TZID=UTC+0:20190901T183000
DTSTAMP:20260424T223531
CREATED:20190204T132000Z
LAST-MODIFIED:20190820T132230Z
UID:14273-1567340400-1567362600@www.corkracecourse.ie
SUMMARY:Sunday 1st September - Social Sundays
DESCRIPTION:Social Sundays at Cork Racecourse Mallow are not to be missed! The ideal opportunity to gather friends and family\, come witness some thrilling racing\, all while relaxing in the comfortable enclosure surroundings.   \nEnjoy Sunday lunch in the top floor restaurant\, with stunning views overlooking the final furlong and finish line. The team at Woodlands Catering will look after your every need\, serving a sumptuous 4 course meal.  Also included in this hospitality package for €55 per person is admission\, racecard\, full bar and tote service to your table whilst the balcony overlooking the track will ensure you have the best view in the house. \nDon’t miss a second of the action as Kerry take on Dublin at the All Ireland Football Championship Final! We’ll have the match live across the enclosure throughout the day. \nWe’re delighted to be hosting the second leg of the The Corinthian Challenge Charity Race Series in aid of Irish Injured Jockeys. For more information on The Corinthian Challenge please click here.  \nSocial Packages are available online only and include Admission\, a racecard\, a €5 Tote Voucher and a Pint…everything you could want to make it that extra special Social Sunday and all for only €20! \nHop on the train from Cork Kent\, Killarney and Limerick Junction and take our free shuttle bus from Mallow Train Station. See times here  \nChildren aged 14 and under come racing FREE of charge at Cork Racecourse year-round\, with a full paying adult. Tickets for adults start at just €15 per person\, or avail of our pre-pay and save online discount. \nJoin us and experience a day of top class thoroughbred racing along with award winning hospitality and so much more! \n[button link=”https://web.flowte.com/sabo/servlets/EventSearch?presenter=TLCORKRCM&event=190901GA\,190901PL\,190901PR\,190901SP&flow=normal” color=”default” size=”large” type=”flat” shape=”square” target=”_blank” title=”” gradient_colors=”|” gradient_hover_colors=”|” accent_color=”” accent_hover_color=”” bevel_color=”” border_width=”1px” shadow=”{{shadow}}” icon=”” icon_divider=”yes” icon_position=”left” modal=”” animation_type=”0″ animation_direction=”down” animation_speed=”0.1″ alignment=”none” class=”” id=””]BOOK NOW[/button] \n
URL:https://www.corkracecourse.ie/event/sunday-1st-september-social-sundays/
LOCATION:Cork Racecourse\, Cork Racecourse Mallow\, Killarney Road\, Mallow\, Cork\, Ireland
GEO:52.1389762;-8.6539164
X-APPLE-STRUCTURED-LOCATION;VALUE=URI;X-ADDRESS=Cork Racecourse Cork Racecourse Mallow Killarney Road Mallow Cork Ireland;X-APPLE-RADIUS=500;X-TITLE=Cork Racecourse Mallow:geo:-8.6539164,52.1389762
CATEGORIES:Race Meeting
ATTACH;FMTTYPE=image/jpeg:https://www.corkracecourse.ie/wp-content/uploads/2019/02/Cork-511917.jpg
ORGANIZER;CN="Cork%20Racecourse":MAILTO:info@corkracecourse.ie
END:VEVENT
END:VCALENDAR