BEGIN:VCALENDAR
VERSION:2.0
PRODID:-//Cork Racecourse Mallow - ECPv4.9.2//NONSGML v1.0//EN
CALSCALE:GREGORIAN
METHOD:PUBLISH
X-WR-CALNAME:Cork Racecourse Mallow
X-ORIGINAL-URL:https://www.corkracecourse.ie
X-WR-CALDESC:Events for Cork Racecourse Mallow
BEGIN:VEVENT
DTSTART;TZID=UTC+0:20190614T170000
DTEND;TZID=UTC+0:20190614T230000
DTSTAMP:20260423T121356
CREATED:20190128T164540Z
LAST-MODIFIED:20190523T110445Z
UID:14244-1560531600-1560553200@www.corkracecourse.ie
SUMMARY:Friday 14th June - Cork Rocks Music & BBQ Night
DESCRIPTION:[button link=”https://web.flowte.com/sabo/servlets/EventSearch?presenter=TLCORKRCM&event=190614GA\,190614PL\,190614PR\,190614SP\,190614BB&flow=normal” color=”default” size=”large” type=”flat” shape=”square” target=”_blank” title=”” gradient_colors=”|” gradient_hover_colors=”|” accent_color=”” accent_hover_color=”” bevel_color=”” border_width=”1px” shadow=”{{shadow}}” icon=”” icon_divider=”yes” icon_position=”left” modal=”” animation_type=”0″ animation_direction=”down” animation_speed=”0.1″ alignment=”none” class=”” id=””]BOOK NOW[/button] \nThe Hothouse Flowers LIVE at Cork Racecourse Mallow! \n  \nCome Racing to Cork Racecourse for the first of our Cork Rocks Friday Night Music Series! The first race of this Flat Card will go to post at 5.50pm with gates opening at 3.30pm. \n  \nThe Hothouse Flowers will take to the stage after our last race at 9pm. \n  \nWe’ve got Super Saver Social Packages available starting at just €20 which includes admission to the races\, live music\, a FREE pint and a FREE bet with the Tote! Enjoy the best views of the racecourse from the Pavillion Stand while enjoying a scrumptious barbecue! \n  \nFor the more formal evening you can reserve a table in our hospitality lounge overlooking the new Matchbook Straight Seven track. Your table will be guaranteed for the evening so you can enjoy a superb dining experience courtesy of our on-site caterers Woodlands Catering. \n  \nTo take the stress out of your evening we have a free shuttle bus running to and from the racecourse before and after racing. Why not leave the car at home or hop on the train! \n  \nTickets for racing and music start at just €15. \n  \nBook now to avail of our 10% online discount! \n  \n[button link=”https://web.flowte.com/sabo/servlets/EventSearch?presenter=TLCORKRCM&event=190614GA\,190614PL\,190614PR\,190614SP\,190614BB&flow=normal” color=”default” size=”large” type=”flat” shape=”square” target=”_blank” title=”” gradient_colors=”|” gradient_hover_colors=”|” accent_color=”” accent_hover_color=”” bevel_color=”” border_width=”1px” shadow=”{{shadow}}” icon=”” icon_divider=”yes” icon_position=”left” modal=”” animation_type=”0″ animation_direction=”down” animation_speed=”0.1″ alignment=”none” class=”” id=””]BOOK NOW[/button] \n
URL:https://www.corkracecourse.ie/event/friday-14th-june-cork-rocks-music-bbq-night/
LOCATION:Cork Racecourse\, Cork Racecourse Mallow\, Killarney Road\, Mallow\, Cork\, Ireland
GEO:52.1389762;-8.6539164
X-APPLE-STRUCTURED-LOCATION;VALUE=URI;X-ADDRESS=Cork Racecourse Cork Racecourse Mallow Killarney Road Mallow Cork Ireland;X-APPLE-RADIUS=500;X-TITLE=Cork Racecourse Mallow:geo:-8.6539164,52.1389762
CATEGORIES:Race Meeting
ATTACH;FMTTYPE=image/jpeg:https://www.corkracecourse.ie/wp-content/uploads/2019/01/Cork20Rocks20Stacked20Red20Black20Logo.jpg
ORGANIZER;CN="Cork%20Racecourse":MAILTO:info@corkracecourse.ie
END:VEVENT
END:VCALENDAR