BEGIN:VCALENDAR
VERSION:2.0
PRODID:-//Cork Racecourse Mallow - ECPv4.9.2//NONSGML v1.0//EN
CALSCALE:GREGORIAN
METHOD:PUBLISH
X-WR-CALNAME:Cork Racecourse Mallow
X-ORIGINAL-URL:https://www.corkracecourse.ie
X-WR-CALDESC:Events for Cork Racecourse Mallow
BEGIN:VEVENT
DTSTART;TZID=UTC+0:20160828T135500
DTEND;TZID=UTC+0:20160828T172000
DTSTAMP:20260420T104027
CREATED:20160104T125443Z
LAST-MODIFIED:20160727T141351Z
UID:10435-1472392500-1472404800@www.corkracecourse.ie
SUMMARY:End of Summer Raceday
DESCRIPTION: \n
URL:https://www.corkracecourse.ie/event/end-of-summer-raceday/
LOCATION:Cork Racecourse\, Cork Racecourse Mallow\, Killarney Road\, Mallow\, Cork\, Ireland
GEO:52.1389762;-8.6539164
X-APPLE-STRUCTURED-LOCATION;VALUE=URI;X-ADDRESS=Cork Racecourse Cork Racecourse Mallow Killarney Road Mallow Cork Ireland;X-APPLE-RADIUS=500;X-TITLE=Cork Racecourse Mallow:geo:-8.6539164,52.1389762
CATEGORIES:Race Meeting
ORGANIZER;CN="Mary%20Kelly":MAILTO:info@corkracecourse.ie
END:VEVENT
END:VCALENDAR