BEGIN:VCALENDAR
VERSION:2.0
PRODID:-//Cork Racecourse Mallow - ECPv4.5.2.1//NONSGML v1.0//EN
CALSCALE:GREGORIAN
METHOD:PUBLISH
X-WR-CALNAME:Cork Racecourse Mallow
X-ORIGINAL-URL:http://www.corkracecourse.ie
X-WR-CALDESC:Events for Cork Racecourse Mallow
BEGIN:VEVENT
DTSTART;TZID=UTC+0:20170323T150000
DTEND;TZID=UTC+0:20170323T200000
DTSTAMP:20171104T224147
CREATED:20170117T100006Z
LAST-MODIFIED:20170308T155238Z
UID:13393-1490281200-1490299200@www.corkracecourse.ie
SUMMARY:Corks RedFM Student Raceday
DESCRIPTION:[button link="http://www.seatadvisor.eu/tickets/corkrc/date/2017-03-23" color="default" size="large" type="flat" shape="square" target="_blank" title="" gradient_colors="|" gradient_hover_colors="|" accent_color="" accent_hover_color="" bevel_color="" border_width="1px" shadow="{{shadow}}" icon="" icon_divider="yes" icon_position="left" modal="" animation_type="0" animation_direction="down" animation_speed="0.1" alignment="none" class="" id=""]BOOK NOW[/button]\nThe largest Student event of the year in association with Corks RedFM\,\n\nStudents from all over gather to enjoy a days racing at Cork Racecourse Mallow\n\n& Rock to Corks Redfm DJ's after racing\n\n[caption id="attachment_12395" align="alignnone" width="300"] Students enjoying a day out at Cork Racecourse[/caption]\n\n[caption id="attachment_12396" align="alignnone" width="205"] A day at the races[/caption]\n\n \n[button link="http://www.seatadvisor.eu/tickets/corkrc/date/2017-03-23" color="default" size="large" type="flat" shape="square" target="_blank" title="" gradient_colors="|" gradient_hover_colors="|" accent_color="" accent_hover_color="" bevel_color="" border_width="1px" shadow="{{shadow}}" icon="" icon_divider="yes" icon_position="left" modal="" animation_type="0" animation_direction="down" animation_speed="0.1" alignment="none" class="" id=""]BOOK NOW[/button]
URL:http://www.corkracecourse.ie/event/corks-redfm-student-raceday-2/
LOCATION:Cork Racecourse Mallow\, Killarney Road\, Mallow\, Cork\, Ireland
GEO:52.1389762;-8.6539164
X-APPLE-STRUCTURED-LOCATION;VALUE=URI;X-ADDRESS=Cork Racecourse Mallow Killarney Road Mallow Cork Ireland;X-APPLE-RADIUS=500;X-TITLE=Cork Racecourse Mallow:geo:-8.6539164,52.1389762
CATEGORIES:Race Meeting
ATTACH;FMTTYPE=image/jpeg:http://www.corkracecourse.ie/wp-content/uploads/2016/04/00-Cork-2531637.jpg
ORGANIZER;CN="Mary%20Kelly":MAILTO:info@corkracecourse.ie
END:VEVENT
END:VCALENDAR