BEGIN:VCALENDAR
VERSION:2.0
PRODID:-//Cork Racecourse Mallow - ECPv4.5.2.1//NONSGML v1.0//EN
CALSCALE:GREGORIAN
METHOD:PUBLISH
X-WR-CALNAME:Cork Racecourse Mallow
X-ORIGINAL-URL:http://www.corkracecourse.ie
X-WR-CALDESC:Events for Cork Racecourse Mallow
BEGIN:VEVENT
DTSTART;TZID=UTC+0:20161106T130000
DTEND;TZID=UTC+0:20161106T164000
DTSTAMP:20171105T005421
CREATED:20160407T111841Z
LAST-MODIFIED:20161104T125938Z
UID:12362-1478437200-1478450400@www.corkracecourse.ie
SUMMARY:Paddy Power Cork National
DESCRIPTION:[button link="http://www.seatadvisor.eu/tickets/corkrc/date/2016-11-06" color="default" size="large" type="flat" shape="square" target="_blank" title="" gradient_colors="|" gradient_hover_colors="|" accent_color="" accent_hover_color="" bevel_color="" border_width="1px" shadow="{{shadow}}" icon="" icon_divider="yes" icon_position="left" modal="" animation_type="0" animation_direction="down" animation_speed="0.1" alignment="none" class="" id=""]BOOK NOW[/button]\n\n[caption id="attachment_7398" align="alignnone" width="300"] Paddy Power Cork National[/caption]\n\nThis is a full National Hunt card featuring the Paddy Power Cork National \, national Hunt racing at its best\n\n[button link="http://www.seatadvisor.eu/tickets/corkrc/date/2016-11-06" color="default" size="large" type="flat" shape="square" target="_blank" title="" gradient_colors="|" gradient_hover_colors="|" accent_color="" accent_hover_color="" bevel_color="" border_width="1px" shadow="{{shadow}}" icon="" icon_divider="yes" icon_position="left" modal="" animation_type="0" animation_direction="down" animation_speed="0.1" alignment="none" class="" id=""]BOOK NOW[/button]
URL:http://www.corkracecourse.ie/event/paddy-power-cork-national/
LOCATION:Cork Racecourse Mallow\, Killarney Road\, Mallow\, Cork\, Ireland
GEO:52.1389762;-8.6539164
X-APPLE-STRUCTURED-LOCATION;VALUE=URI;X-ADDRESS=Cork Racecourse Mallow Killarney Road Mallow Cork Ireland;X-APPLE-RADIUS=500;X-TITLE=Cork Racecourse Mallow:geo:-8.6539164,52.1389762
CATEGORIES:Race Meeting
ATTACH;FMTTYPE=image/jpeg:http://www.corkracecourse.ie/wp-content/uploads/2014/10/Raceday-Picture-e1475073240178.jpg
ORGANIZER;CN="Mary%20Kelly":MAILTO:info@corkracecourse.ie
END:VEVENT
END:VCALENDAR