BEGIN:VCALENDAR
VERSION:2.0
PRODID:-//Cork Racecourse Mallow - ECPv4.5.2.1//NONSGML v1.0//EN
CALSCALE:GREGORIAN
METHOD:PUBLISH
X-WR-CALNAME:Cork Racecourse Mallow
X-ORIGINAL-URL:http://www.corkracecourse.ie
X-WR-CALDESC:Events for Cork Racecourse Mallow
BEGIN:VEVENT
DTSTART;TZID=UTC+0:20170402T140500
DTEND;TZID=UTC+0:20170402T173000
DTSTAMP:20171029T102025
CREATED:20170117T100736Z
LAST-MODIFIED:20170328T084331Z
UID:13395-1491141900-1491154200@www.corkracecourse.ie
SUMMARY:Sunday 2nd April
DESCRIPTION:[button link="http://www.seatadvisor.eu/tickets/corkrc/date/2017-04-02" color="default" size="large" type="flat" shape="square" target="_blank" title="" gradient_colors="|" gradient_hover_colors="|" accent_color="" accent_hover_color="" bevel_color="" border_width="1px" shadow="{{shadow}}" icon="" icon_divider="yes" icon_position="left" modal="" animation_type="0" animation_direction="down" animation_speed="0.1" alignment="none" class="" id=""]BOOK NOW[/button]\n \n\nOur Flat Racing Season kicks off with a 7 race card\n\n[caption id="attachment_12410" align="alignnone" width="300"] Dermot & Chris Weld in the Parade ring at Cork Racecourse[/caption]\n\n \n[button link="http://www.seatadvisor.eu/tickets/corkrc/date/2017-04-02" color="default" size="large" type="flat" shape="square" target="_blank" title="" gradient_colors="|" gradient_hover_colors="|" accent_color="" accent_hover_color="" bevel_color="" border_width="1px" shadow="{{shadow}}" icon="" icon_divider="yes" icon_position="left" modal="" animation_type="0" animation_direction="down" animation_speed="0.1" alignment="none" class="" id=""]BOOK NOW[/button]
URL:http://www.corkracecourse.ie/event/sunday-2nd-april/
LOCATION:Cork Racecourse Mallow\, Killarney Road\, Mallow\, Cork\, Ireland
GEO:52.1389762;-8.6539164
X-APPLE-STRUCTURED-LOCATION;VALUE=URI;X-ADDRESS=Cork Racecourse Mallow Killarney Road Mallow Cork Ireland;X-APPLE-RADIUS=500;X-TITLE=Cork Racecourse Mallow:geo:-8.6539164,52.1389762
CATEGORIES:Race Meeting
ATTACH;FMTTYPE=image/jpeg:http://www.corkracecourse.ie/wp-content/uploads/2016/09/00-Weld-D.K.-Kris-4415-1.jpg
ORGANIZER;CN="Mary%20Kelly":MAILTO:info@corkracecourse.ie
END:VEVENT
END:VCALENDAR